BEGIN:VCALENDAR
VERSION:2.0
PRODID:-//TYPO3/NONSGML Calendarize//EN


BEGIN:VEVENT
UID:calendarize-day-2-conference-azerbaijan-as-a-crossroads-of-science-and-poetry
DTSTAMP:20240326T183700Z

DTSTART:20240618T210000Z
DTEND:20240618T210000Z
    
SUMMARY:DAY 2: Conference "Azerbaijan as a crossroads of science and poetry"
DESCRIPTION:
X-ALT-DESC;FMTTYPE=text/html:
LOCATION:
END:VEVENT

END:VCALENDAR