BEGIN:VCALENDAR
VERSION:2.0
PRODID:-//TYPO3/NONSGML Calendarize//EN


BEGIN:VEVENT
UID:calendarize-day-1-conference-azerbaijan-as-a-crossroads-of-science-and-poetry
DTSTAMP:20240326T183622Z

DTSTART:20240617T210000Z
DTEND:20240617T210000Z
    
SUMMARY:DAY 1: Conference "Azerbaijan as a crossroads of science and poetry"
DESCRIPTION:
X-ALT-DESC;FMTTYPE=text/html:
LOCATION:
END:VEVENT

END:VCALENDAR