BEGIN:VCALENDAR
VERSION:2.0
PRODID:-//TYPO3/NONSGML Calendarize//EN


BEGIN:VEVENT
UID:calendarize-abstract-submission-deadline
DTSTAMP:20240301T112616Z

DTSTART:20240501T210000Z
DTEND:20240501T210000Z
    
SUMMARY:Abstract submission deadline
DESCRIPTION:Abstract submission deadline for the conference "Azerbaijan as a crossroads of science and poetry" is 2 May 2024.\nNotification of acceptance for the speakers of this conference will be sent on 14 May 2024.\nSpeakers must register for the conference in the "Registration" section of this site.\nIf there are any questions\, please contact us by e-mail: azconference2024@gmail.com.
X-ALT-DESC;FMTTYPE=text/html:<p>Abstract submission deadline for the conference "<em>Azerbaijan as a crossroads of science and poetry</em>" is <strong>2&nbsp\;May 2024</strong>.</p>\n<p>Notification of acceptance for the speakers of this conference will be sent on <strong>14&nbsp\;May 2024</strong>.</p>\n<p>Speakers must register for the conference in the "<strong><em>Registration</em></strong>" section of this site.</p>\n<p>If there are any questions\, please contact us by e-mail: <a href="mailto:AZconference2024@gmail.com">azconference2024@gmail.com</a>.</p>
LOCATION:
END:VEVENT

END:VCALENDAR